<?xml version="1.0" encoding="UTF-8"?>
<Capabilities xmlns="http://www.opengis.net/wmts/1.0"
xmlns:ows="http://www.opengis.net/ows/1.1"
xmlns:xlink="http://www.w3.org/1999/xlink"
xmlns:xsi="http://www.w3.org/2001/XMLSchema-instance"
xmlns:gml="http://www.opengis.net/gml"
xsi:schemaLocation="http://www.opengis.net/wmts/1.0 http://schemas.opengis.net/wmts/1.0/wmtsGetCapabilities_response.xsd"
version="1.0.0">
<!-- Service Identification --> <ows:ServiceIdentification>
<ows:Title>NDWC_StormSurge_Point_Monitoring_Warning</ows:Title>
<ows:ServiceType>OGC WMTS</ows:ServiceType>
<ows:ServiceTypeVersion>1.0.0</ows:ServiceTypeVersion>
</ows:ServiceIdentification> <!-- Operations Metadata --> <ows:OperationsMetadata>
<ows:Operation name="GetCapabilities">
<ows:DCP>
<ows:HTTP>
<ows:Get xlink:href="https://gis-portal.disaster.go.th/arcgis/rest/services/NDWC_StormSurge_Point_Monitoring_Warning/MapServer/WMTS/1.0.0/WMTSCapabilities.xml">
<ows:Constraint name="GetEncoding">
<ows:AllowedValues>
<ows:Value>RESTful</ows:Value>
</ows:AllowedValues>
</ows:Constraint>
</ows:Get>
<!-- add KVP binding in 10.1 -->
<ows:Get xlink:href="https://gis-portal.disaster.go.th/arcgis/rest/services/NDWC_StormSurge_Point_Monitoring_Warning/MapServer/WMTS?">
<ows:Constraint name="GetEncoding">
<ows:AllowedValues>
<ows:Value>KVP</ows:Value>
</ows:AllowedValues>
</ows:Constraint>
</ows:Get>
</ows:HTTP>
</ows:DCP>
</ows:Operation>
<ows:Operation name="GetTile">
<ows:DCP>
<ows:HTTP>
<ows:Get xlink:href="https://gis-portal.disaster.go.th/arcgis/rest/services/NDWC_StormSurge_Point_Monitoring_Warning/MapServer/WMTS/tile/1.0.0/">
<ows:Constraint name="GetEncoding">
<ows:AllowedValues>
<ows:Value>RESTful</ows:Value>
</ows:AllowedValues>
</ows:Constraint>
</ows:Get>
<ows:Get xlink:href="https://gis-portal.disaster.go.th/arcgis/rest/services/NDWC_StormSurge_Point_Monitoring_Warning/MapServer/WMTS?">
<ows:Constraint name="GetEncoding">
<ows:AllowedValues>
<ows:Value>KVP</ows:Value>
</ows:AllowedValues>
</ows:Constraint>
</ows:Get>
</ows:HTTP>
</ows:DCP>
</ows:Operation>
</ows:OperationsMetadata> <Contents>
<!--Layer--> <Layer>
<ows:Title>NDWC_StormSurge_Point_Monitoring_Warning</ows:Title> <ows:Identifier>NDWC_StormSurge_Point_Monitoring_Warning</ows:Identifier>
<ows:BoundingBox crs="urn:ogc:def:crs:EPSG::32647">
<ows:LowerCorner>385206.1471879756 750601.1709994508</ows:LowerCorner>
<ows:UpperCorner>812976.9880199406 1477171.3892559977</ows:UpperCorner>
</ows:BoundingBox> <ows:WGS84BoundingBox crs="urn:ogc:def:crs:OGC:2:84">
<ows:LowerCorner>97.9399264343675 6.782339785679419</ows:LowerCorner>
<ows:UpperCorner>101.88908934964414 13.362026118231014</ows:UpperCorner>
</ows:WGS84BoundingBox>
<Style isDefault="true">
<ows:Title>Default Style</ows:Title>
<ows:Identifier>default</ows:Identifier>
</Style>
<Format>image/png</Format>
<TileMatrixSetLink>
<TileMatrixSet>default028mm</TileMatrixSet>
</TileMatrixSetLink>
<ResourceURL format="image/png" resourceType="tile" template="https://gis-portal.disaster.go.th/arcgis/rest/services/NDWC_StormSurge_Point_Monitoring_Warning/MapServer/WMTS/tile/1.0.0/NDWC_StormSurge_Point_Monitoring_Warning/{Style}/{TileMatrixSet}/{TileMatrix}/{TileRow}/{TileCol}.png" />
</Layer> <!--TileMatrixSet-->
<TileMatrixSet>
<ows:Title>TileMatrix using 0.28mm</ows:Title>
<ows:Abstract>The tile matrix set that has scale values calculated based on the dpi defined by OGC specification (dpi assumes 0.28mm as the physical distance of a pixel).</ows:Abstract> <ows:Identifier>default028mm</ows:Identifier>
<ows:SupportedCRS>urn:ogc:def:crs:EPSG::32647</ows:SupportedCRS>
<TileMatrix>
<ows:Identifier>0</ows:Identifier>
<ScaleDenominator>3779769.4643003587</ScaleDenominator>
<TopLeftCorner>-5120900.0 9.00709927374099E11</TopLeftCorner> <TileWidth>256</TileWidth> <TileHeight>256</TileHeight>
<MatrixWidth>22</MatrixWidth> <MatrixHeight>3324462</MatrixHeight>
</TileMatrix>
<TileMatrix>
<ows:Identifier>1</ows:Identifier>
<ScaleDenominator>1889884.7321501793</ScaleDenominator>
<TopLeftCorner>-5120900.0 9.00709927374099E11</TopLeftCorner> <TileWidth>256</TileWidth> <TileHeight>256</TileHeight>
<MatrixWidth>44</MatrixWidth> <MatrixHeight>6648923</MatrixHeight>
</TileMatrix>
<TileMatrix>
<ows:Identifier>2</ows:Identifier>
<ScaleDenominator>944942.3660750897</ScaleDenominator>
<TopLeftCorner>-5120900.0 9.00709927374099E11</TopLeftCorner> <TileWidth>256</TileWidth> <TileHeight>256</TileHeight>
<MatrixWidth>88</MatrixWidth> <MatrixHeight>13297846</MatrixHeight>
</TileMatrix>
<TileMatrix>
<ows:Identifier>3</ows:Identifier>
<ScaleDenominator>472471.18303754483</ScaleDenominator>
<TopLeftCorner>-5120900.0 9.00709927374099E11</TopLeftCorner> <TileWidth>256</TileWidth> <TileHeight>256</TileHeight>
<MatrixWidth>176</MatrixWidth> <MatrixHeight>26595691</MatrixHeight>
</TileMatrix>
<TileMatrix>
<ows:Identifier>4</ows:Identifier>
<ScaleDenominator>236235.59151877242</ScaleDenominator>
<TopLeftCorner>-5120900.0 9.00709927374099E11</TopLeftCorner> <TileWidth>256</TileWidth> <TileHeight>256</TileHeight>
<MatrixWidth>351</MatrixWidth> <MatrixHeight>53191381</MatrixHeight>
</TileMatrix>
</TileMatrixSet>
</Contents>
<ServiceMetadataURL xlink:href="https://gis-portal.disaster.go.th/arcgis/rest/services/NDWC_StormSurge_Point_Monitoring_Warning/MapServer/WMTS/1.0.0/WMTSCapabilities.xml" /> </Capabilities>
