<?xml version="1.0" encoding="UTF-8"?>
<Capabilities xmlns="http://www.opengis.net/wmts/1.0"
xmlns:ows="http://www.opengis.net/ows/1.1"
xmlns:xlink="http://www.w3.org/1999/xlink"
xmlns:xsi="http://www.w3.org/2001/XMLSchema-instance"
xmlns:gml="http://www.opengis.net/gml"
xsi:schemaLocation="http://www.opengis.net/wmts/1.0 http://schemas.opengis.net/wmts/1.0/wmtsGetCapabilities_response.xsd"
version="1.0.0">
<!-- Service Identification --> <ows:ServiceIdentification>
<ows:Title>Map116_DPM_DEM_East</ows:Title>
<ows:ServiceType>OGC WMTS</ows:ServiceType>
<ows:ServiceTypeVersion>1.0.0</ows:ServiceTypeVersion>
</ows:ServiceIdentification> <!-- Operations Metadata --> <ows:OperationsMetadata>
<ows:Operation name="GetCapabilities">
<ows:DCP>
<ows:HTTP>
<ows:Get xlink:href="https://gis-portal.disaster.go.th/arcgis/rest/services/Map116/DPM_DEM_East/MapServer/WMTS/1.0.0/WMTSCapabilities.xml">
<ows:Constraint name="GetEncoding">
<ows:AllowedValues>
<ows:Value>RESTful</ows:Value>
</ows:AllowedValues>
</ows:Constraint>
</ows:Get>
<!-- add KVP binding in 10.1 -->
<ows:Get xlink:href="https://gis-portal.disaster.go.th/arcgis/rest/services/Map116/DPM_DEM_East/MapServer/WMTS?">
<ows:Constraint name="GetEncoding">
<ows:AllowedValues>
<ows:Value>KVP</ows:Value>
</ows:AllowedValues>
</ows:Constraint>
</ows:Get>
</ows:HTTP>
</ows:DCP>
</ows:Operation>
<ows:Operation name="GetTile">
<ows:DCP>
<ows:HTTP>
<ows:Get xlink:href="https://gis-portal.disaster.go.th/arcgis/rest/services/Map116/DPM_DEM_East/MapServer/WMTS/tile/1.0.0/">
<ows:Constraint name="GetEncoding">
<ows:AllowedValues>
<ows:Value>RESTful</ows:Value>
</ows:AllowedValues>
</ows:Constraint>
</ows:Get>
<ows:Get xlink:href="https://gis-portal.disaster.go.th/arcgis/rest/services/Map116/DPM_DEM_East/MapServer/WMTS?">
<ows:Constraint name="GetEncoding">
<ows:AllowedValues>
<ows:Value>KVP</ows:Value>
</ows:AllowedValues>
</ows:Constraint>
</ows:Get>
</ows:HTTP>
</ows:DCP>
</ows:Operation>
</ows:OperationsMetadata> <Contents>
<!--Layer--> <Layer>
<ows:Title>Map116_DPM_DEM_East</ows:Title> <ows:Identifier>Map116_DPM_DEM_East</ows:Identifier>
<ows:BoundingBox crs="urn:ogc:def:crs:EPSG::32647">
<ows:LowerCorner>690903.9359662887 1280063.1950822913</ows:LowerCorner>
<ows:UpperCorner>929073.3597099262 1602455.0261786468</ows:UpperCorner>
</ows:BoundingBox> <ows:WGS84BoundingBox crs="urn:ogc:def:crs:OGC:2:84">
<ows:LowerCorner>100.75072743492578 11.552863546268766</ows:LowerCorner>
<ows:UpperCorner>102.97848846996271 14.488170018959552</ows:UpperCorner>
</ows:WGS84BoundingBox>
<Style isDefault="true">
<ows:Title>Default Style</ows:Title>
<ows:Identifier>default</ows:Identifier>
</Style>
<Format>image/jpgpng</Format>
<TileMatrixSetLink>
<TileMatrixSet>default028mm</TileMatrixSet>
</TileMatrixSetLink>
<ResourceURL format="image/jpgpng" resourceType="tile" template="https://gis-portal.disaster.go.th/arcgis/rest/services/Map116/DPM_DEM_East/MapServer/WMTS/tile/1.0.0/Map116_DPM_DEM_East/{Style}/{TileMatrixSet}/{TileMatrix}/{TileRow}/{TileCol}" />
</Layer> <!--TileMatrixSet-->
<TileMatrixSet>
<ows:Title>TileMatrix using 0.28mm</ows:Title>
<ows:Abstract>The tile matrix set that has scale values calculated based on the dpi defined by OGC specification (dpi assumes 0.28mm as the physical distance of a pixel).</ows:Abstract> <ows:Identifier>default028mm</ows:Identifier>
<ows:SupportedCRS>urn:ogc:def:crs:EPSG::32647</ows:SupportedCRS>
<TileMatrix>
<ows:Identifier>0</ows:Identifier>
<ScaleDenominator>2.7896104751722413E8</ScaleDenominator>
<TopLeftCorner>-9497963.94301857 9997963.94301857</TopLeftCorner> <TileWidth>256</TileWidth> <TileHeight>256</TileHeight>
<MatrixWidth>1</MatrixWidth> <MatrixHeight>1</MatrixHeight>
</TileMatrix>
<TileMatrix>
<ows:Identifier>1</ows:Identifier>
<ScaleDenominator>1.3948052375861207E8</ScaleDenominator>
<TopLeftCorner>-9497963.94301857 9997963.94301857</TopLeftCorner> <TileWidth>256</TileWidth> <TileHeight>256</TileHeight>
<MatrixWidth>2</MatrixWidth> <MatrixHeight>1</MatrixHeight>
</TileMatrix>
<TileMatrix>
<ows:Identifier>2</ows:Identifier>
<ScaleDenominator>6.974026187930603E7</ScaleDenominator>
<TopLeftCorner>-9497963.94301857 9997963.94301857</TopLeftCorner> <TileWidth>256</TileWidth> <TileHeight>256</TileHeight>
<MatrixWidth>3</MatrixWidth> <MatrixHeight>2</MatrixHeight>
</TileMatrix>
<TileMatrix>
<ows:Identifier>3</ows:Identifier>
<ScaleDenominator>3.487013093965302E7</ScaleDenominator>
<TopLeftCorner>-9497963.94301857 9997963.94301857</TopLeftCorner> <TileWidth>256</TileWidth> <TileHeight>256</TileHeight>
<MatrixWidth>5</MatrixWidth> <MatrixHeight>4</MatrixHeight>
</TileMatrix>
<TileMatrix>
<ows:Identifier>4</ows:Identifier>
<ScaleDenominator>1.743506546982651E7</ScaleDenominator>
<TopLeftCorner>-9497963.94301857 9997963.94301857</TopLeftCorner> <TileWidth>256</TileWidth> <TileHeight>256</TileHeight>
<MatrixWidth>9</MatrixWidth> <MatrixHeight>7</MatrixHeight>
</TileMatrix>
<TileMatrix>
<ows:Identifier>5</ows:Identifier>
<ScaleDenominator>8717532.734913254</ScaleDenominator>
<TopLeftCorner>-9497963.94301857 9997963.94301857</TopLeftCorner> <TileWidth>256</TileWidth> <TileHeight>256</TileHeight>
<MatrixWidth>17</MatrixWidth> <MatrixHeight>14</MatrixHeight>
</TileMatrix>
<TileMatrix>
<ows:Identifier>6</ows:Identifier>
<ScaleDenominator>4358766.367456627</ScaleDenominator>
<TopLeftCorner>-9497963.94301857 9997963.94301857</TopLeftCorner> <TileWidth>256</TileWidth> <TileHeight>256</TileHeight>
<MatrixWidth>34</MatrixWidth> <MatrixHeight>28</MatrixHeight>
</TileMatrix>
<TileMatrix>
<ows:Identifier>7</ows:Identifier>
<ScaleDenominator>2179383.1837283135</ScaleDenominator>
<TopLeftCorner>-9497963.94301857 9997963.94301857</TopLeftCorner> <TileWidth>256</TileWidth> <TileHeight>256</TileHeight>
<MatrixWidth>67</MatrixWidth> <MatrixHeight>56</MatrixHeight>
</TileMatrix>
<TileMatrix>
<ows:Identifier>8</ows:Identifier>
<ScaleDenominator>1089691.5918641568</ScaleDenominator>
<TopLeftCorner>-9497963.94301857 9997963.94301857</TopLeftCorner> <TileWidth>256</TileWidth> <TileHeight>256</TileHeight>
<MatrixWidth>134</MatrixWidth> <MatrixHeight>112</MatrixHeight>
</TileMatrix>
<TileMatrix>
<ows:Identifier>9</ows:Identifier>
<ScaleDenominator>544845.7959320784</ScaleDenominator>
<TopLeftCorner>-9497963.94301857 9997963.94301857</TopLeftCorner> <TileWidth>256</TileWidth> <TileHeight>256</TileHeight>
<MatrixWidth>267</MatrixWidth> <MatrixHeight>224</MatrixHeight>
</TileMatrix>
<TileMatrix>
<ows:Identifier>10</ows:Identifier>
<ScaleDenominator>272422.8979660392</ScaleDenominator>
<TopLeftCorner>-9497963.94301857 9997963.94301857</TopLeftCorner> <TileWidth>256</TileWidth> <TileHeight>256</TileHeight>
<MatrixWidth>534</MatrixWidth> <MatrixHeight>447</MatrixHeight>
</TileMatrix>
<TileMatrix>
<ows:Identifier>11</ows:Identifier>
<ScaleDenominator>136211.4489830196</ScaleDenominator>
<TopLeftCorner>-9497963.94301857 9997963.94301857</TopLeftCorner> <TileWidth>256</TileWidth> <TileHeight>256</TileHeight>
<MatrixWidth>1068</MatrixWidth> <MatrixHeight>893</MatrixHeight>
</TileMatrix>
<TileMatrix>
<ows:Identifier>12</ows:Identifier>
<ScaleDenominator>68105.7244915098</ScaleDenominator>
<TopLeftCorner>-9497963.94301857 9997963.94301857</TopLeftCorner> <TileWidth>256</TileWidth> <TileHeight>256</TileHeight>
<MatrixWidth>2136</MatrixWidth> <MatrixHeight>1786</MatrixHeight>
</TileMatrix>
<TileMatrix>
<ows:Identifier>13</ows:Identifier>
<ScaleDenominator>34052.8622457549</ScaleDenominator>
<TopLeftCorner>-9497963.94301857 9997963.94301857</TopLeftCorner> <TileWidth>256</TileWidth> <TileHeight>256</TileHeight>
<MatrixWidth>4272</MatrixWidth> <MatrixHeight>3572</MatrixHeight>
</TileMatrix>
<TileMatrix>
<ows:Identifier>14</ows:Identifier>
<ScaleDenominator>17026.43112287745</ScaleDenominator>
<TopLeftCorner>-9497963.94301857 9997963.94301857</TopLeftCorner> <TileWidth>256</TileWidth> <TileHeight>256</TileHeight>
<MatrixWidth>8544</MatrixWidth> <MatrixHeight>7144</MatrixHeight>
</TileMatrix>
<TileMatrix>
<ows:Identifier>15</ows:Identifier>
<ScaleDenominator>8513.215561438725</ScaleDenominator>
<TopLeftCorner>-9497963.94301857 9997963.94301857</TopLeftCorner> <TileWidth>256</TileWidth> <TileHeight>256</TileHeight>
<MatrixWidth>17088</MatrixWidth> <MatrixHeight>14287</MatrixHeight>
</TileMatrix>
<TileMatrix>
<ows:Identifier>16</ows:Identifier>
<ScaleDenominator>4256.607780719362</ScaleDenominator>
<TopLeftCorner>-9497963.94301857 9997963.94301857</TopLeftCorner> <TileWidth>256</TileWidth> <TileHeight>256</TileHeight>
<MatrixWidth>34175</MatrixWidth> <MatrixHeight>28573</MatrixHeight>
</TileMatrix>
<TileMatrix>
<ows:Identifier>17</ows:Identifier>
<ScaleDenominator>2128.303890359681</ScaleDenominator>
<TopLeftCorner>-9497963.94301857 9997963.94301857</TopLeftCorner> <TileWidth>256</TileWidth> <TileHeight>256</TileHeight>
<MatrixWidth>68349</MatrixWidth> <MatrixHeight>57146</MatrixHeight>
</TileMatrix>
<TileMatrix>
<ows:Identifier>18</ows:Identifier>
<ScaleDenominator>1064.1519451798406</ScaleDenominator>
<TopLeftCorner>-9497963.94301857 9997963.94301857</TopLeftCorner> <TileWidth>256</TileWidth> <TileHeight>256</TileHeight>
<MatrixWidth>136698</MatrixWidth> <MatrixHeight>114291</MatrixHeight>
</TileMatrix>
</TileMatrixSet>
</Contents>
<ServiceMetadataURL xlink:href="https://gis-portal.disaster.go.th/arcgis/rest/services/Map116/DPM_DEM_East/MapServer/WMTS/1.0.0/WMTSCapabilities.xml" /> </Capabilities>
